BEGIN:VCALENDAR
VERSION:2.0
PRODID:-//ZenLife Center for Healing - ECPv6.15.20//NONSGML v1.0//EN
CALSCALE:GREGORIAN
METHOD:PUBLISH
X-ORIGINAL-URL:https://zenlifehealing.com
X-WR-CALDESC:Events for ZenLife Center for Healing
REFRESH-INTERVAL;VALUE=DURATION:PT1H
X-Robots-Tag:noindex
X-PUBLISHED-TTL:PT1H
BEGIN:VTIMEZONE
TZID:America/Phoenix
BEGIN:STANDARD
TZOFFSETFROM:-0700
TZOFFSETTO:-0700
TZNAME:MST
DTSTART:20240101T000000
END:STANDARD
END:VTIMEZONE
BEGIN:VEVENT
DTSTART;TZID=America/Phoenix:20250424T201500
DTEND;TZID=America/Phoenix:20250424T211500
DTSTAMP:20260425T064414
CREATED:20250402T165105Z
LAST-MODIFIED:20250402T165106Z
UID:10000671-1745525700-1745529300@zenlifehealing.com
SUMMARY:Communicating Through the Middle Road
DESCRIPTION:Join us for monthly classes designed to help you step out of the reactive patterns of daily life and into a space of deeper connection\, presence\, and possibility. Through the practice of the circling technique\, we’ll explore principles of communication\, self-awareness\, and authentic relationship-building in a supportive and interactive environment. \n\n\n\nEach session focuses on real-time experiences\, offering tools to navigate relationships with clarity\, curiosity\, and compassion. Together\, we’ll practice staying grounded in the “Middle Road”—a space where we can embrace balance\, authenticity\, and growth in our communication with ourselves and others. \n\n\n\nThese classes are open to participants aged 16 and up\, from all walks of life. Whether you’re new to this practice or have prior experience\, you’ll gain meaningful insights and practical skills to apply in everyday life. \n\n\n\nSuggested donation: $20 per participant (optional).
URL:https://zenlifehealing.com/event/communicating-through-the-middle-road-3/
LOCATION:ZenLife Center for Healing\, 21820 S Ellsworth Rd #103\, Queen Creek\, AZ\, 85142\, United States
CATEGORIES:Community
ATTACH;FMTTYPE=image/jpeg:https://zenlifehealing.com/wp-content/uploads/2025/01/middle-road-communicating-zenlife.jpg
END:VEVENT
BEGIN:VEVENT
DTSTART;TZID=America/Phoenix:20250413T130000
DTEND;TZID=America/Phoenix:20250413T150000
DTSTAMP:20260425T064414
CREATED:20250402T171248Z
LAST-MODIFIED:20250402T171252Z
UID:10000676-1744549200-1744556400@zenlifehealing.com
SUMMARY:Book Club: The Upanishads Wrap up & Potluck
DESCRIPTION:Come join us on Sunday at 1PM as we wrap up the study of The Upanishads and introduce our book club book for this month. Bring a dish of some kind for the potluck.
URL:https://zenlifehealing.com/event/book-club-the-upanishads-wrap-up-potluck/
CATEGORIES:Community
ATTACH;FMTTYPE=image/jpeg:https://zenlifehealing.com/wp-content/uploads/2025/04/upanishads-book-club-study-zenlife.jpg
END:VEVENT
BEGIN:VEVENT
DTSTART;TZID=America/Phoenix:20250410T201500
DTEND;TZID=America/Phoenix:20250410T211500
DTSTAMP:20260425T064414
CREATED:20250402T165936Z
LAST-MODIFIED:20250402T165937Z
UID:10000673-1744316100-1744319700@zenlifehealing.com
SUMMARY:Sobriety Circle
DESCRIPTION:Join us for the Sobriety Circle\, a welcoming and supportive space for anyone who is currently participating in or has previously attended a 12-step program.  \n\n\n\nThis circle is designed to complement your ongoing journey\, whether you’ve been involved in a sobriety program for months or years.  \n\n\n\nTogether\, we create a safe and nurturing environment to share experiences\, find connection\, and continue your path toward healing and growth.
URL:https://zenlifehealing.com/event/sobriety-circle-3/
LOCATION:ZenLife Center for Healing\, 21820 S Ellsworth Rd #103\, Queen Creek\, AZ\, 85142\, United States
CATEGORIES:Community,Events
ATTACH;FMTTYPE=image/png:https://zenlifehealing.com/wp-content/uploads/2025/01/SOBRIETY-CIRCLE-Queen-creek-ZenLife.png
END:VEVENT
BEGIN:VEVENT
DTSTART;TZID=America/Phoenix:20250227T201500
DTEND;TZID=America/Phoenix:20250227T211500
DTSTAMP:20260425T064414
CREATED:20250205T151939Z
LAST-MODIFIED:20250205T151940Z
UID:10000669-1740687300-1740690900@zenlifehealing.com
SUMMARY:Communicating Through the Middle Road
DESCRIPTION:Join us for monthly classes designed to help you step out of the reactive patterns of daily life and into a space of deeper connection\, presence\, and possibility. Through the practice of the circling technique\, we’ll explore principles of communication\, self-awareness\, and authentic relationship-building in a supportive and interactive environment. \n\n\n\nEach session focuses on real-time experiences\, offering tools to navigate relationships with clarity\, curiosity\, and compassion. Together\, we’ll practice staying grounded in the “Middle Road”—a space where we can embrace balance\, authenticity\, and growth in our communication with ourselves and others. \n\n\n\nThese classes are open to participants aged 16 and up\, from all walks of life. Whether you’re new to this practice or have prior experience\, you’ll gain meaningful insights and practical skills to apply in everyday life. \n\n\n\nSuggested donation: $20 per participant (optional).
URL:https://zenlifehealing.com/event/communicating-through-the-middle-road-2/
LOCATION:ZenLife Center for Healing\, 21820 S Ellsworth Rd #103\, Queen Creek\, AZ\, 85142\, United States
CATEGORIES:Community
ATTACH;FMTTYPE=image/jpeg:https://zenlifehealing.com/wp-content/uploads/2025/01/middle-road-communicating-zenlife.jpg
END:VEVENT
BEGIN:VEVENT
DTSTART;TZID=America/Phoenix:20250123T201500
DTEND;TZID=America/Phoenix:20250123T211500
DTSTAMP:20260425T064414
CREATED:20250119T220028Z
LAST-MODIFIED:20250119T221741Z
UID:10000662-1737663300-1737666900@zenlifehealing.com
SUMMARY:Communicating Through the Middle Road
DESCRIPTION:Join us for monthly classes designed to help you step out of the reactive patterns of daily life and into a space of deeper connection\, presence\, and possibility. Through the practice of the circling technique\, we’ll explore principles of communication\, self-awareness\, and authentic relationship-building in a supportive and interactive environment. \n\n\n\nEach session focuses on real-time experiences\, offering tools to navigate relationships with clarity\, curiosity\, and compassion. Together\, we’ll practice staying grounded in the “Middle Road”—a space where we can embrace balance\, authenticity\, and growth in our communication with ourselves and others. \n\n\n\nThese classes are open to participants aged 16 and up\, from all walks of life. Whether you’re new to this practice or have prior experience\, you’ll gain meaningful insights and practical skills to apply in everyday life. \n\n\n\nSuggested donation: $20 per participant (optional).
URL:https://zenlifehealing.com/event/communicating-through-the-middle-road/
LOCATION:ZenLife Center for Healing\, 21820 S Ellsworth Rd #103\, Queen Creek\, AZ\, 85142\, United States
CATEGORIES:Community
ATTACH;FMTTYPE=image/jpeg:https://zenlifehealing.com/wp-content/uploads/2025/01/middle-road-communicating-zenlife.jpg
END:VEVENT
END:VCALENDAR